BEGIN:VCALENDAR
VERSION:2.0
PRODID:-//destination.one//NONSGML destination.meta API//DE
X-WR-CALDESC:A calendar powered by destination.meta
X-WR-CALNAME:reisekumpel Kalender via destination.meta
BEGIN:VEVENT
CATEGORIES:Festival/Open-Air
DESCRIPTION:\n\nmehr Informationen unter http://pages.destination.one/de/re
 isekumpel/streaming/detail/Event/e_101228914/jan-delay-disko-no-1
DTEND;TZID=Europe/Berlin:20260626T230000
DTSTAMP:20260419T131930Z
DTSTART;TZID=Europe/Berlin:20260626T170000
GEO:51.742919;7.213934
LOCATION:Seebad\, Hullerner Straße 52\, Haltern am See
ORGANIZER;CN=ZK Gastro & Event GmbH & Co. KG:mailto:mail@rossini-haltern.de
SEQUENCE:0
SUMMARY:Jan Delay & Disko No.1
UID:e_101228914_iv0
URL:http://pages.destination.one/de/reisekumpel/streaming/detail/Event/e_10
 1228914/jan-delay-disko-no-1
END:VEVENT
BEGIN:VTIMEZONE
TZID:Europe/Berlin
X-LIC-LOCATION:Europe/Berlin
BEGIN:DAYLIGHT
DTSTART:19700329T020000
RRULE:FREQ=YEARLY;BYDAY=-1SU;BYMONTH=3
TZNAME:CEST
TZOFFSETFROM:+0100
TZOFFSETTO:+0200
END:DAYLIGHT
BEGIN:STANDARD
DTSTART:19701025T030000
RRULE:FREQ=YEARLY;BYDAY=-1SU;BYMONTH=10
TZNAME:CET
TZOFFSETFROM:+0200
TZOFFSETTO:+0100
END:STANDARD
END:VTIMEZONE
END:VCALENDAR
